BEGIN:VCALENDAR
VERSION:2.0
PRODID:Events Booking
BEGIN:VEVENT
UID:69e72c78257f4
SUMMARY:Val d'Entremont | niveau 3/4
DESCRIPTION:
 Technique(?) 3/4
 Physique(?) 3/4
 Durée 8 heures
 BIKE&
 nbsp\;&nbsp\;&nbsp\;E-BIKE&nbsp\;(?)
 
LOCATION:La Douay 12\, 1937 Orsières\, Suisse
DTSTART:20210924T060000Z
DTEND:20210924T160000Z
DTSTAMP:20260421T095120Z
ORGANIZER;CN=Exoride:MAILTO:webmaster@exoride.net
GEO:46.053147;7.15002
X-APPLE-STRUCTURED-LOCATION;VALUE=URI;X-ADDRESS=La Douay 12\, 1937 Orsière
 s\, Suisse;X-APPLE-RADIUS=72;X-TITLE=Parking de la Douay:46.053147;7.15002
END:VEVENT
END:VCALENDAR