BEGIN:VCALENDAR
VERSION:2.0
PRODID:Events Booking
BEGIN:VEVENT
UID:69e4fe1722cda
SUMMARY:[E-BIKE | Mittlere] Martigny
DESCRIPTION:
LOCATION:Chemin du Rhône 135\, 1926 Fully\, Suisse
DTSTART:20211028T073000Z
DTEND:20211028T150000Z
DTSTAMP:20260419T180855Z
ORGANIZER;CN=Exoride:MAILTO:webmaster@exoride.net
GEO:46.125533;7.087311
X-APPLE-STRUCTURED-LOCATION;VALUE=URI;X-ADDRESS=Chemin du Rhône 135\, 1926
  Fully\, Suisse;X-APPLE-RADIUS=72;X-TITLE=:46.125533;7.087311
END:VEVENT
END:VCALENDAR